View In:
ArcGIS JavaScript
ArcGIS Online Map Viewer
ArcGIS Earth
ArcMap
View Footprint In:
ArcGIS Online Map Viewer
Service Description: Hosted/June_12__2021__Karal__Chad
Name: Hosted/June_12__2021__Karal__Chad
Description:
Single Fused Map Cache: true
Tile Info:
- Height: 256
- Width: 256
- DPI: 96
-
Levels of Detail: 9
-
Level ID: 0
[ Start Tile, End Tile ]
- Resolution: 128.2329466573204
- Scale: 484658.9865502756
-
Level ID: 1
[ Start Tile, End Tile ]
- Resolution: 64.1164733286602
- Scale: 242329.4932751378
-
Level ID: 2
[ Start Tile, End Tile ]
- Resolution: 32.0582366643301
- Scale: 121164.7466375689
-
Level ID: 3
[ Start Tile, End Tile ]
- Resolution: 16.02911833216505
- Scale: 60582.37331878445
-
Level ID: 4
[ Start Tile, End Tile ]
- Resolution: 8.014559166082526
- Scale: 30291.186659392224
-
Level ID: 5
[ Start Tile, End Tile ]
- Resolution: 4.007279583041263
- Scale: 15145.593329696112
-
Level ID: 6
[ Start Tile, End Tile ]
- Resolution: 2.0036397915206314
- Scale: 7572.796664848056
-
Level ID: 7
[ Start Tile, End Tile ]
- Resolution: 1.0018198957603157
- Scale: 3786.398332424028
-
Level ID: 8
[ Start Tile, End Tile ]
- Resolution: 0.5009099478801579
- Scale: 1893.199166212014
- Format: LERC2D
- Compression Quality: 100000.0
- LERC Error: 0.1
- Origin: X: 1609325.5069000013
Y: 1463979.2325000006
- Spatial Reference: 102100
(3857)
Storage Info:
- Storage Format: esriMapCacheStorageModeCompactV2
- Packet Size: 16
Extent:
XMin: 1609325.5069000013
YMin: 1341066.9513090632
XMax: 1629987.040430162
YMax: 1463979.2325000006
Spatial Reference: 102100
(3857)
Initial Extent:
XMin: 1609325.5069000013
YMin: 1341066.9513090632
XMax: 1629987.040430162
YMax: 1463979.2325000006
Spatial Reference: 102100
(3857)
Full Extent:
XMin: 1609325.5069000013
YMin: 1341066.9513090632
XMax: 1629987.040430162
YMax: 1463979.2325000006
Spatial Reference: 102100
(3857)
Pixel Size X: 0.5009099478801586
Pixel Size Y: 0.5009099478801579
Band Count: 3
Pixel Type: U8
RasterFunction Infos: {"rasterFunctionInfos": [{
"name": "None",
"description": "",
"help": ""
}]}
Mensuration Capabilities: Basic
Has Histograms: true
Has Colormap: false
Has Multi Dimensions : false
Rendering Rule:
Min Scale: 0
Max Scale: 0
Copyright Text:
Service Data Type: esriImageServiceDataTypeRGB
Min Values: 1, 1, 1
Max Values: 255, 255, 255
Mean Values: 148.34153289047953, 126.90790123740253, 115.47869585995363
Standard Deviation Values: 36.42111891240325, 32.399882154689536, 30.04094894037926
Object ID Field:
Fields:
None
Default Mosaic Method: Center
Allowed Mosaic Methods:
SortField:
SortValue: null
Mosaic Operator: First
Default Compression Quality: 75
Default Resampling Method: Bilinear
Max Record Count: null
Max Image Height: 4100
Max Image Width: 15000
Max Download Image Count: null
Max Mosaic Image Count: null
Allow Raster Function: true
Allow Copy: true
Allow Analysis: true
Allow Compute TiePoints: false
Supports Statistics: false
Supports Advanced Queries: false
Use StandardizedQueries: true
Raster Type Infos:
Name: Raster Dataset
Description: Supports all ArcGIS Raster Datasets
Help:
Has Raster Attribute Table: false
Edit Fields Info: null
Ownership Based AccessControl For Rasters: null
Child Resources:
Info
Histograms
Statistics
Key Properties
Legend
Raster Function Infos
Supported Operations:
Export Image
Identify
Compute Histograms
Compute Statistics Histograms
Get Samples
Compute Class Statistics
Query Boundary
Compute Pixel Location
Compute Angles
Validate
Project