{
 "currentVersion": 10.91,
 "serviceDescription": "Hosted/June_12__2021__Karal__Chad",
 "name": "Hosted/June_12__2021__Karal__Chad",
 "description": "",
 "extent": {
  "xmin": 1609325.5069000013,
  "ymin": 1341066.9513090632,
  "xmax": 1629987.040430162,
  "ymax": 1463979.2325000006,
  "spatialReference": {
   "wkid": 102100,
   "latestWkid": 3857
  }
 },
 "initialExtent": {
  "xmin": 1609325.5069000013,
  "ymin": 1341066.9513090632,
  "xmax": 1629987.040430162,
  "ymax": 1463979.2325000006,
  "spatialReference": {
   "wkid": 102100,
   "latestWkid": 3857
  }
 },
 "fullExtent": {
  "xmin": 1609325.5069000013,
  "ymin": 1341066.9513090632,
  "xmax": 1629987.040430162,
  "ymax": 1463979.2325000006,
  "spatialReference": {
   "wkid": 102100,
   "latestWkid": 3857
  }
 },
 "hasMultidimensions": false,
 "pixelSizeX": 0.5009099478801586,
 "pixelSizeY": 0.5009099478801579,
 "datasetFormat": "Cache/LERC2D",
 "uncompressedSize": 30364055232,
 "blockWidth": 256,
 "blockHeight": 256,
 "compressionType": "LERC2D",
 "bandNames": [
  "Band_1",
  "Band_2",
  "Band_3"
 ],
 "allowCopy": true,
 "allowAnalysis": true,
 "bandCount": 3,
 "noDataValue": 256,
 "noDataValues": [
  256,
  256,
  256
 ],
 "pixelType": "U8",
 "minPixelSize": 0,
 "maxPixelSize": 0,
 "copyrightText": "",
 "serviceDataType": "esriImageServiceDataTypeRGB",
 "serviceSourceType": "esriImageServiceSourceTypeDataset",
 "minValues": [
  1,
  1,
  1
 ],
 "maxValues": [
  255,
  255,
  255
 ],
 "meanValues": [
  148.34153289047953,
  126.90790123740253,
  115.47869585995363
 ],
 "stdvValues": [
  36.42111891240325,
  32.399882154689536,
  30.04094894037926
 ],
 "objectIdField": "",
 "fields": [],
 "capabilities": "Image, Metadata",
 "defaultMosaicMethod": "Center",
 "allowedMosaicMethods": "",
 "sortField": "",
 "sortValue": null,
 "sortAscending": true,
 "mosaicOperator": "First",
 "defaultCompressionQuality": 75,
 "defaultResamplingMethod": "Bilinear",
 "maxImageHeight": 4100,
 "maxImageWidth": 15000,
 "singleFusedMapCache": true,
 "tileInfo": {
  "rows": 256,
  "cols": 256,
  "dpi": 96,
  "format": "LERC2D",
  "compressionQuality": 100000,
  "lercError": 0.1,
  "origin": {
   "x": 1609325.5069000013,
   "y": 1463979.2325000006
  },
  "spatialReference": {
   "wkid": 102100,
   "latestWkid": 3857
  },
  "lods": [
   {
    "level": 0,
    "resolution": 128.2329466573204,
    "scale": 484658.9865502756
   },
   {
    "level": 1,
    "resolution": 64.1164733286602,
    "scale": 242329.4932751378
   },
   {
    "level": 2,
    "resolution": 32.0582366643301,
    "scale": 121164.7466375689
   },
   {
    "level": 3,
    "resolution": 16.02911833216505,
    "scale": 60582.37331878445
   },
   {
    "level": 4,
    "resolution": 8.014559166082526,
    "scale": 30291.186659392224
   },
   {
    "level": 5,
    "resolution": 4.007279583041263,
    "scale": 15145.593329696112
   },
   {
    "level": 6,
    "resolution": 2.0036397915206314,
    "scale": 7572.796664848056
   },
   {
    "level": 7,
    "resolution": 1.0018198957603157,
    "scale": 3786.398332424028
   },
   {
    "level": 8,
    "resolution": 0.5009099478801579,
    "scale": 1893.199166212014
   }
  ]
 },
 "storageInfo": {
  "storageFormat": "esriMapCacheStorageModeCompactV2",
  "packetSize": 16
 },
 "cacheType": "Raster",
 "allowRasterFunction": true,
 "rasterFunctionInfos": [
  {
   "name": "None",
   "description": "",
   "help": ""
  }
 ],
 "rasterTypeInfos": [
  {
   "name": "Raster Dataset",
   "description": "Supports all ArcGIS Raster Datasets",
   "help": ""
  }
 ],
 "mensurationCapabilities": "Basic",
 "hasHistograms": true,
 "hasColormap": false,
 "hasRasterAttributeTable": false,
 "minScale": 0,
 "maxScale": 0,
 "exportTilesAllowed": false,
 "supportsStatistics": false,
 "supportsAdvancedQueries": false,
 "editFieldsInfo": null,
 "ownershipBasedAccessControlForRasters": null,
 "allowComputeTiePoints": false,
 "useStandardizedQueries": true,
 "advancedQueryCapabilities": {
  "useStandardizedQueries": true,
  "supportsStatistics": false,
  "supportsOrderBy": false,
  "supportsDistinct": false,
  "supportsPagination": false
 },
 "spatialReference": {
  "wkid": 102100,
  "latestWkid": 3857
 }
}