View In:
ArcGIS JavaScript
ArcGIS Online Map Viewer
ArcGIS Earth
ArcMap
View Footprint In:
ArcGIS Online Map Viewer
Service Description: Hosted/December_12_2015__Sangaria_and_Adjilele__Chad_
Name: Hosted/December_12_2015__Sangaria_and_Adjilele__Chad_
Description:
Single Fused Map Cache: true
Tile Info:
- Height: 256
- Width: 256
- DPI: 96
-
Levels of Detail: 9
-
Level ID: 0
[ Start Tile, End Tile ]
- Resolution: 118.65142485777636
- Scale: 448445.4332784629
-
Level ID: 1
[ Start Tile, End Tile ]
- Resolution: 59.32571242888818
- Scale: 224222.71663923145
-
Level ID: 2
[ Start Tile, End Tile ]
- Resolution: 29.66285621444409
- Scale: 112111.35831961573
-
Level ID: 3
[ Start Tile, End Tile ]
- Resolution: 14.831428107222045
- Scale: 56055.67915980786
-
Level ID: 4
[ Start Tile, End Tile ]
- Resolution: 7.415714053611023
- Scale: 28027.83957990393
-
Level ID: 5
[ Start Tile, End Tile ]
- Resolution: 3.7078570268055113
- Scale: 14013.919789951966
-
Level ID: 6
[ Start Tile, End Tile ]
- Resolution: 1.8539285134027557
- Scale: 7006.959894975983
-
Level ID: 7
[ Start Tile, End Tile ]
- Resolution: 0.9269642567013778
- Scale: 3503.4799474879915
-
Level ID: 8
[ Start Tile, End Tile ]
- Resolution: 0.4634821283506889
- Scale: 1751.7399737439957
- Format: LERC2D
- Compression Quality: 100000.0
- LERC Error: 0.1
- Origin: X: 1622905.2487999983
Y: 1500244.8863000006
- Spatial Reference: 102100
(3857)
Storage Info:
- Storage Format: esriMapCacheStorageModeCompactV2
- Packet Size: 16
Extent:
XMin: 1622905.2487999983
YMin: 1436530.4615977597
XMax: 1639742.6275587222
YMax: 1500244.8863000006
Spatial Reference: 102100
(3857)
Initial Extent:
XMin: 1622905.2487999983
YMin: 1436530.4615977597
XMax: 1639742.6275587222
YMax: 1500244.8863000006
Spatial Reference: 102100
(3857)
Full Extent:
XMin: 1622905.2487999983
YMin: 1436530.4615977597
XMax: 1639742.6275587222
YMax: 1500244.8863000006
Spatial Reference: 102100
(3857)
Pixel Size X: 0.46348212835068947
Pixel Size Y: 0.4634821283506889
Band Count: 3
Pixel Type: U8
RasterFunction Infos: {"rasterFunctionInfos": [{
"name": "None",
"description": "",
"help": ""
}]}
Mensuration Capabilities: Basic
Has Histograms: true
Has Colormap: false
Has Multi Dimensions : false
Rendering Rule:
Min Scale: 0
Max Scale: 0
Copyright Text:
Service Data Type: esriImageServiceDataTypeRGB
Min Values: 1, 1, 1
Max Values: 255, 255, 255
Mean Values: 146.9040625965783, 151.67889414370518, 138.32609329870644
Standard Deviation Values: 40.359924412776046, 34.08805454270219, 36.19755843408697
Object ID Field:
Fields:
None
Default Mosaic Method: Center
Allowed Mosaic Methods:
SortField:
SortValue: null
Mosaic Operator: First
Default Compression Quality: 75
Default Resampling Method: Bilinear
Max Record Count: null
Max Image Height: 4100
Max Image Width: 15000
Max Download Image Count: null
Max Mosaic Image Count: null
Allow Raster Function: true
Allow Copy: true
Allow Analysis: true
Allow Compute TiePoints: false
Supports Statistics: false
Supports Advanced Queries: false
Use StandardizedQueries: true
Raster Type Infos:
Name: Raster Dataset
Description: Supports all ArcGIS Raster Datasets
Help:
Has Raster Attribute Table: false
Edit Fields Info: null
Ownership Based AccessControl For Rasters: null
Child Resources:
Info
Histograms
Statistics
Key Properties
Legend
Raster Function Infos
Supported Operations:
Export Image
Identify
Compute Histograms
Compute Statistics Histograms
Get Samples
Compute Class Statistics
Query Boundary
Compute Pixel Location
Compute Angles
Validate
Project