View In:
ArcGIS JavaScript
ArcGIS Online Map Viewer
ArcGIS Earth
ArcMap
View Footprint In:
ArcGIS Online Map Viewer
Service Description: Hosted/Clip_1833605_2011_04_30_RE4_3A_160923
Name: Hosted/Clip_1833605_2011_04_30_RE4_3A_160923
Description:
Single Fused Map Cache: false
Extent:
XMin: 269530
YMin: 8690555
XMax: 280600
YMax: 8696625
Spatial Reference: 32718
(32718)
Initial Extent:
XMin: 269530
YMin: 8690555
XMax: 280600
YMax: 8696625
Spatial Reference: 32718
(32718)
Full Extent:
XMin: 269530
YMin: 8690555
XMax: 280600
YMax: 8696625
Spatial Reference: 32718
(32718)
Pixel Size X: 5.0
Pixel Size Y: 5.0
Band Count: 5
Pixel Type: U16
RasterFunction Infos: {"rasterFunctionInfos": [{
"name": "None",
"description": "",
"help": ""
}]}
Mensuration Capabilities: Basic
Has Histograms: true
Has Colormap: false
Has Multi Dimensions : false
Rendering Rule:
Min Scale: 0
Max Scale: 0
Copyright Text:
Service Data Type: esriImageServiceDataTypeGeneric
Min Values: 7486, 5549, 3796, 2829, 2119
Max Values: 18260, 19804, 16413, 12607, 30627
Mean Values: 9522.157074425999, 8190.03506275852, 6965.430243350147, 5267.513195917579, 4727.905957059633
Standard Deviation Values: 698.292852496712, 995.9449104025693, 1236.3085273980041, 960.6653897303318, 992.8103389064659
Object ID Field:
Fields:
None
Default Mosaic Method: Center
Allowed Mosaic Methods:
SortField:
SortValue: null
Mosaic Operator: First
Default Compression Quality: 75
Default Resampling Method: Nearest
Max Record Count: null
Max Image Height: 4100
Max Image Width: 15000
Max Download Image Count: null
Max Mosaic Image Count: null
Allow Raster Function: true
Allow Copy: false
Allow Analysis: true
Allow Compute TiePoints: false
Supports Statistics: false
Supports Advanced Queries: false
Use StandardizedQueries: true
Raster Type Infos:
Name: Raster Dataset
Description: Supports all ArcGIS Raster Datasets
Help:
Has Raster Attribute Table: false
Edit Fields Info: null
Ownership Based AccessControl For Rasters: null
Child Resources:
Info
Histograms
Statistics
Key Properties
Legend
Raster Function Infos
Supported Operations:
Export Image
Identify
Compute Histograms
Compute Statistics Histograms
Get Samples
Compute Class Statistics
Query Boundary
Compute Pixel Location
Compute Angles
Validate
Project