View In:
ArcGIS JavaScript
ArcGIS Online Map Viewer
ArcGIS Earth
ArcMap
View Footprint In:
ArcGIS Online Map Viewer
Service Description: Hosted/Algeria_Schools_OSM_Density
Name: Hosted/Algeria_Schools_OSM_Density
Description:
Single Fused Map Cache: false
Extent:
XMin: -623111.4272514568
YMin: 3427126.400506055
XMax: 1935056.1295621851
YMax: 4765080.143609424
Spatial Reference: 102100
(3857)
Initial Extent:
XMin: -623111.4272514568
YMin: 3427126.400506055
XMax: 1935056.1295621851
YMax: 4765080.143609424
Spatial Reference: 102100
(3857)
Full Extent:
XMin: -623111.4272514568
YMin: 3427126.400506055
XMax: 1935056.1295621851
YMax: 4765080.143609424
Spatial Reference: 102100
(3857)
Pixel Size X: 5351.814972413476
Pixel Size Y: 5351.814972413476
Band Count: 1
Pixel Type: F32
RasterFunction Infos: {"rasterFunctionInfos": [{
"name": "None",
"description": "",
"help": ""
}]}
Mensuration Capabilities: Basic
Has Histograms: true
Has Colormap: false
Has Multi Dimensions : false
Rendering Rule:
Min Scale: 0
Max Scale: 0
Copyright Text:
Service Data Type: esriImageServiceDataTypeGeneric
Min Values: 0
Max Values: 0.12843570113182068
Mean Values: 0.0012756081015236728
Standard Deviation Values: 0.005399153528400864
Object ID Field:
Fields:
None
Default Mosaic Method: Center
Allowed Mosaic Methods:
SortField:
SortValue: null
Mosaic Operator: First
Default Compression Quality: 75
Default Resampling Method: Bilinear
Max Record Count: null
Max Image Height: 4100
Max Image Width: 15000
Max Download Image Count: null
Max Mosaic Image Count: null
Allow Raster Function: true
Allow Copy: true
Allow Analysis: true
Allow Compute TiePoints: false
Supports Statistics: false
Supports Advanced Queries: false
Use StandardizedQueries: true
Raster Type Infos:
Name: Raster Dataset
Description: Supports all ArcGIS Raster Datasets
Help:
Has Raster Attribute Table: false
Edit Fields Info: null
Ownership Based AccessControl For Rasters: null
Child Resources:
Info
Histograms
Statistics
Key Properties
Legend
Raster Function Infos
Supported Operations:
Export Image
Identify
Compute Histograms
Compute Statistics Histograms
Get Samples
Compute Class Statistics
Query Boundary
Compute Pixel Location
Compute Angles
Validate
Project