{
 "currentVersion": 10.91,
 "serviceDescription": "The RasterRendering service is a multi-tenant raster rendering provider.",
 "name": "Hosted/CARABAYLLO_20200509_clip_rgb",
 "description": "",
 "extent": {
  "xmin": 268979.4485,
  "ymin": 8691676.8141,
  "xmax": 281154.2621,
  "ymax": 8695503.16,
  "spatialReference": {
   "wkid": 32718,
   "latestWkid": 32718
  }
 },
 "initialExtent": {
  "xmin": 268979.4485,
  "ymin": 8691676.8141,
  "xmax": 281154.2621,
  "ymax": 8695503.16,
  "spatialReference": {
   "wkid": 32718,
   "latestWkid": 32718
  }
 },
 "fullExtent": {
  "xmin": 268979.4485,
  "ymin": 8691676.8141,
  "xmax": 281154.2621,
  "ymax": 8695503.16,
  "spatialReference": {
   "wkid": 32718,
   "latestWkid": 32718
  }
 },
 "hasMultidimensions": false,
 "pixelSizeX": 0.8454144573293517,
 "pixelSizeY": 0.8454144719401246,
 "datasetFormat": "TIFF",
 "uncompressedSize": 260715704,
 "blockWidth": 14401,
 "blockHeight": 1,
 "compressionType": "None",
 "bandNames": [
  "Band_1",
  "Band_2",
  "Band_3",
  "Band_4"
 ],
 "allowCopy": true,
 "allowAnalysis": true,
 "bandCount": 4,
 "pixelType": "U8",
 "minPixelSize": 0,
 "maxPixelSize": 0,
 "copyrightText": "",
 "serviceDataType": "esriImageServiceDataTypeGeneric",
 "serviceSourceType": "esriImageServiceSourceTypeDataset",
 "minValues": [],
 "maxValues": [],
 "meanValues": [],
 "stdvValues": [],
 "objectIdField": "",
 "fields": [],
 "capabilities": "Image, Metadata, Mensuration",
 "defaultMosaicMethod": "Center",
 "allowedMosaicMethods": "",
 "sortField": "",
 "sortValue": null,
 "sortAscending": true,
 "mosaicOperator": "First",
 "defaultCompressionQuality": 75,
 "defaultResamplingMethod": "Bilinear",
 "maxImageHeight": 4100,
 "maxImageWidth": 15000,
 "allowRasterFunction": true,
 "rasterFunctionInfos": [
  {
   "name": "None",
   "description": "",
   "help": ""
  }
 ],
 "rasterTypeInfos": [
  {
   "name": "Raster Dataset",
   "description": "Supports all ArcGIS Raster Datasets",
   "help": ""
  }
 ],
 "mensurationCapabilities": "Basic",
 "hasHistograms": false,
 "hasColormap": false,
 "hasRasterAttributeTable": false,
 "minScale": 0,
 "maxScale": 0,
 "exportTilesAllowed": false,
 "supportsStatistics": false,
 "supportsAdvancedQueries": false,
 "editFieldsInfo": null,
 "ownershipBasedAccessControlForRasters": null,
 "allowComputeTiePoints": false,
 "useStandardizedQueries": true,
 "advancedQueryCapabilities": {
  "useStandardizedQueries": true,
  "supportsStatistics": false,
  "supportsOrderBy": false,
  "supportsDistinct": false,
  "supportsPagination": false
 },
 "spatialReference": {
  "wkid": 32718,
  "latestWkid": 32718
 }
}
